BEGIN:VCALENDAR
VERSION:2.0
PRODID:-//Journey to ExSCellence - ECPv6.15.17//NONSGML v1.0//EN
CALSCALE:GREGORIAN
METHOD:PUBLISH
X-ORIGINAL-URL:https://journeytoexscellence.org
X-WR-CALDESC:Events for Journey to ExSCellence
REFRESH-INTERVAL;VALUE=DURATION:PT1H
X-Robots-Tag:noindex
X-PUBLISHED-TTL:PT1H
BEGIN:VTIMEZONE
TZID:UTC
BEGIN:STANDARD
TZOFFSETFROM:+0000
TZOFFSETTO:+0000
TZNAME:UTC
DTSTART:20250101T000000
END:STANDARD
END:VTIMEZONE
BEGIN:VEVENT
DTSTART;TZID=UTC:20260301T120000
DTEND;TZID=UTC:20260301T140000
DTSTAMP:20260420T132807
CREATED:20260113T032250Z
LAST-MODIFIED:20260217T213729Z
UID:5650-1772366400-1772373600@journeytoexscellence.org
SUMMARY:Battle Buddy Brunch DMV
DESCRIPTION:Educational Brunch: Learning About Sickle Cell and Gene Therapy Together
URL:https://journeytoexscellence.org/event/battle-buddy-brunch-dmv/
LOCATION:Copper Canyon Grille – Glenarden\, 9300 Taj Lane\, Glenarden\, Maryland\, 28385\, United States
END:VEVENT
BEGIN:VEVENT
DTSTART;TZID=UTC:20260314T110000
DTEND;TZID=UTC:20260314T130000
DTSTAMP:20260420T132807
CREATED:20260206T221942Z
LAST-MODIFIED:20260206T221944Z
UID:5670-1773486000-1773493200@journeytoexscellence.org
SUMMARY:Battle Buddy Brunch Fayetteville
DESCRIPTION:
URL:https://journeytoexscellence.org/event/battle-buddy-brunch-fayetteville/
LOCATION:Bees and Boards\, 225 Green Street\, Fayetteville\, North Carolina\, 28301\, United States
END:VEVENT
END:VCALENDAR