BEGIN:VCALENDAR
VERSION:2.0
PRODID:-//Journey to ExSCellence - ECPv6.15.17//NONSGML v1.0//EN
CALSCALE:GREGORIAN
METHOD:PUBLISH
X-WR-CALNAME:Journey to ExSCellence
X-ORIGINAL-URL:https://journeytoexscellence.org
X-WR-CALDESC:Events for Journey to ExSCellence
REFRESH-INTERVAL;VALUE=DURATION:PT1H
X-Robots-Tag:noindex
X-PUBLISHED-TTL:PT1H
BEGIN:VTIMEZONE
TZID:UTC
BEGIN:STANDARD
TZOFFSETFROM:+0000
TZOFFSETTO:+0000
TZNAME:UTC
DTSTART:20250101T000000
END:STANDARD
END:VTIMEZONE
BEGIN:VEVENT
DTSTART;TZID=UTC:20260228T090000
DTEND;TZID=UTC:20260228T140000
DTSTAMP:20260422T084940
CREATED:20260114T170706Z
LAST-MODIFIED:20260114T170708Z
UID:5654-1772269200-1772287200@journeytoexscellence.org
SUMMARY:JTE| MMBC Community Blood Drive
DESCRIPTION:Thank you for supporting the American Red Cross blood program! The need for blood is constant and only volunteer donors can fulfill that need for patients in our community. Nationwide\, someone needs a unit of blood every 2 to 3 seconds and most of us will need blood in our lifetime. Blood donations are especially critical during the winter months\, and they are lifesaving for individuals living with Sickle Cell Disease. Many Sickle Cell warriors rely on regular blood transfusions to manage pain\, prevent complications\, and improve quality of life. A strong and diverse blood supply makes a real difference.
URL:https://journeytoexscellence.org/event/jte-mmbc-community-blood-drive/
LOCATION:MT. MORIAH BAPTIST CHURCH 1636 East Capitol Street\, NE Washington\, D.C. 20003
END:VEVENT
END:VCALENDAR