BEGIN:VCALENDAR
VERSION:2.0
PRODID:-//Journey to ExSCellence - ECPv6.15.17//NONSGML v1.0//EN
CALSCALE:GREGORIAN
METHOD:PUBLISH
X-ORIGINAL-URL:https://journeytoexscellence.org
X-WR-CALDESC:Events for Journey to ExSCellence
REFRESH-INTERVAL;VALUE=DURATION:PT1H
X-Robots-Tag:noindex
X-PUBLISHED-TTL:PT1H
BEGIN:VTIMEZONE
TZID:UTC
BEGIN:STANDARD
TZOFFSETFROM:+0000
TZOFFSETTO:+0000
TZNAME:UTC
DTSTART:20240101T000000
END:STANDARD
END:VTIMEZONE
BEGIN:VEVENT
DTSTART;TZID=UTC:20251011T110000
DTEND;TZID=UTC:20251011T133000
DTSTAMP:20260422T143214
CREATED:20250730T173502Z
LAST-MODIFIED:20250828T124715Z
UID:4972-1760180400-1760189400@journeytoexscellence.org
SUMMARY:Battle Buddy Brunch
DESCRIPTION:The Battle Buddy Brunch is a powerful gathering that brings attention to Sickle Cell Disease while highlighting resources available across the community. This meaningful event features a Patient Educator\, Sickle Cell Advocates\, and stories from Sickle Cell Warriors\, celebrating resilience\, connection\, and the importance of support systems on the journey toward better health and quality of life.
URL:https://journeytoexscellence.org/event/battle-buddy-brunch/
LOCATION:Bees and Boards\, 225 Green Street\, Fayetteville\, North Carolina\, 28301\, United States
END:VEVENT
END:VCALENDAR