BEGIN:VCALENDAR
VERSION:2.0
PRODID:-//Journey to ExSCellence - ECPv6.15.17//NONSGML v1.0//EN
CALSCALE:GREGORIAN
METHOD:PUBLISH
X-ORIGINAL-URL:https://journeytoexscellence.org
X-WR-CALDESC:Events for Journey to ExSCellence
REFRESH-INTERVAL;VALUE=DURATION:PT1H
X-Robots-Tag:noindex
X-PUBLISHED-TTL:PT1H
BEGIN:VTIMEZONE
TZID:UTC
BEGIN:STANDARD
TZOFFSETFROM:+0000
TZOFFSETTO:+0000
TZNAME:UTC
DTSTART:20240101T000000
END:STANDARD
END:VTIMEZONE
BEGIN:VEVENT
DTSTART;TZID=UTC:20250619T100000
DTEND;TZID=UTC:20250619T113000
DTSTAMP:20260422T194405
CREATED:20250611T170426Z
LAST-MODIFIED:20250611T171316Z
UID:4916-1750327200-1750332600@journeytoexscellence.org
SUMMARY:Emerging Adults with Sickle Cell: Navigating the Transition from Teen to Adulthood
DESCRIPTION:Journey to ExSCellence is pleased to present a compelling and educational webinar in observance of World Sickle Cell Day on June 19\, 2025\, entitled: “Emerging Adults with Sickle Cell: Navigating the Transition from Teen to Adulthood.” This webinar will feature lived experiences and knowledge of warriors and caregivers navigating this important life stage. We believe the topics discussed will truly resonate with families\, advocates\, and providers.
URL:https://journeytoexscellence.org/event/emerging-adults-with-sickle-cell-navigating-the-transition-from-teen-to-adulthood/
LOCATION:MD
ATTACH;FMTTYPE=image/jpeg:https://journeytoexscellence.org/wp-content/uploads/2025/06/JTE-Webinar-2025-Flyer-Final.jpg
END:VEVENT
END:VCALENDAR