BEGIN:VCALENDAR
VERSION:2.0
PRODID:-//Journey to ExSCellence - ECPv6.15.17//NONSGML v1.0//EN
CALSCALE:GREGORIAN
METHOD:PUBLISH
X-WR-CALNAME:Journey to ExSCellence
X-ORIGINAL-URL:https://journeytoexscellence.org
X-WR-CALDESC:Events for Journey to ExSCellence
REFRESH-INTERVAL;VALUE=DURATION:PT1H
X-Robots-Tag:noindex
X-PUBLISHED-TTL:PT1H
BEGIN:VTIMEZONE
TZID:UTC
BEGIN:STANDARD
TZOFFSETFROM:+0000
TZOFFSETTO:+0000
TZNAME:UTC
DTSTART:20230101T000000
END:STANDARD
END:VTIMEZONE
BEGIN:VEVENT
DTSTART;TZID=UTC:20240921T080000
DTEND;TZID=UTC:20240921T230000
DTSTAMP:20260422T141049
CREATED:20241021T194849Z
LAST-MODIFIED:20241214T162222Z
UID:4526-1726905600-1726959600@journeytoexscellence.org
SUMMARY:Journey to ExSCellence 5K
DESCRIPTION:Event Description: \n\n\n\nThe Annual Journey to ExSCellence 5K seeks to raise awareness and educate the Prince George’s County community about Sickle Cell Disease and the challenges those affected by it face. People living with this disease must accommodate their daily life activities to manage symptoms of chronic pain\, respiratory duress\, inflammation\, anemia\, and jaundice. The results of these symptoms are a catalyst to the patients’ isolation\, depression and negative stigmas. They are our Warriors!Journey to ExSCellence 5K partners with local organizations to assist in alleviating the external stressors that negatively impact Sickle Cell Warriors and their families. \n\n\n\nParticipant Leader BoardsCassandra AllenDean AventEmma BailiffEbony ButlerKevin ButlerLouise CowardMae Frances FrazierDorothy FrederickCynthia GolsonJoyce GreenfieldIvy HungerfordChandrai Jackson-SaundersMiriam MyersGari NelsonBridgette OverbeyLeslie PageShannon ParkerBelinda PetersonDemetra RiceBarbara RouseyToni RouseyJames & Robin SnipesYvette Tuzon
URL:https://journeytoexscellence.org/event/journey-to-exscellence-5k-2/
LOCATION:City of Praise Family Ministries Parking Lot #1\, Landover Md
CATEGORIES:Upcoming
END:VEVENT
END:VCALENDAR