BEGIN:VCALENDAR
VERSION:2.0
PRODID:-//Journey to ExSCellence - ECPv6.15.17//NONSGML v1.0//EN
CALSCALE:GREGORIAN
METHOD:PUBLISH
X-ORIGINAL-URL:https://journeytoexscellence.org
X-WR-CALDESC:Events for Journey to ExSCellence
REFRESH-INTERVAL;VALUE=DURATION:PT1H
X-Robots-Tag:noindex
X-PUBLISHED-TTL:PT1H
BEGIN:VTIMEZONE
TZID:UTC
BEGIN:STANDARD
TZOFFSETFROM:+0000
TZOFFSETTO:+0000
TZNAME:UTC
DTSTART:20250101T000000
END:STANDARD
END:VTIMEZONE
BEGIN:VEVENT
DTSTART;TZID=UTC:20260912T090000
DTEND;TZID=UTC:20260912T120000
DTSTAMP:20260420T132749
CREATED:20260323T040554Z
LAST-MODIFIED:20260323T040555Z
UID:5812-1789203600-1789214400@journeytoexscellence.org
SUMMARY:5th Annual Journey to ExSCellence 5K Walk/Run
DESCRIPTION:This annual fundraising event seeks to educate communities about Sickle Cell Disease and the challenges those affected by it face.
URL:https://journeytoexscellence.org/event/5th-annual-journey-to-exscellence-5k-walk-run/
LOCATION:Fairwood Community Park\, 12390 Fairwood Parkway\, Bowie\, MD\, 20720\, United States
END:VEVENT
END:VCALENDAR