BEGIN:VCALENDAR
VERSION:2.0
PRODID:-//Journey to ExSCellence - ECPv6.15.17//NONSGML v1.0//EN
CALSCALE:GREGORIAN
METHOD:PUBLISH
X-WR-CALNAME:Journey to ExSCellence
X-ORIGINAL-URL:https://journeytoexscellence.org
X-WR-CALDESC:Events for Journey to ExSCellence
REFRESH-INTERVAL;VALUE=DURATION:PT1H
X-Robots-Tag:noindex
X-PUBLISHED-TTL:PT1H
BEGIN:VTIMEZONE
TZID:UTC
BEGIN:STANDARD
TZOFFSETFROM:+0000
TZOFFSETTO:+0000
TZNAME:UTC
DTSTART:20240101T000000
END:STANDARD
END:VTIMEZONE
BEGIN:VEVENT
DTSTART;TZID=UTC:20250913T090000
DTEND;TZID=UTC:20250913T120000
DTSTAMP:20260422T172021
CREATED:20250708T103850Z
LAST-MODIFIED:20250828T120250Z
UID:4953-1757754000-1757764800@journeytoexscellence.org
SUMMARY:4th Annual Journey to ExSCellence 5K Walk/Run
DESCRIPTION:Now in its 4th year\, the Journey to ExSCellence 5K Walk/Run is a signature community event that brings people of all ages and fitness levels together for a powerful purpose — to raise awareness and support for individuals living with Sickle Cell Disease and their caregivers. Whether you’re running\, walking\, or cheering from the sidelines\, this fun\, family-friendly event offers an energizing morning filled with movement\, unity\, and impact. Every step taken helps educate\, advocate\, and uplift those affected by Sickle Cell. Join us on September 13th at Walker Mill Regional Park and be part of the movement for change! \n\n\n\n\n\n\n\n		\n			4th Annual Journey to ExSCellence 5K Walk/Run\n				\n				Sep 13\, 2025 -8001 Walker Mill Road\n	\n		\n		District Heights\,\n\n	Maryland\n\n	20747\n\n	United States\n				\n			\n			\n				\n				\n			\n			\n				Find out more
URL:https://journeytoexscellence.org/event/4th-annual-journey-to-exscellence-5k-walk-run/
LOCATION:Walker Mill Regional Park\, 8001 Walker Mill Road\, District Heights\, Maryland\, 20747\, United States
CATEGORIES:Upcoming
END:VEVENT
END:VCALENDAR